BEGIN:VCALENDAR
VERSION:2.0
PRODID:-//Squarespace Inc/Squarespace 6//v6//EN
BEGIN:VEVENT
UID:5a0541110d9297cba2717552@squarespace.com
DTSTAMP:20171129T074930Z
DTSTART:20180309T210000Z
DTEND:20180310T050000Z
SUMMARY:North West Auckland
GEO:-36.792367;174.492676
LOCATION:Casabella\, 146 Kauri Crescent\, Waimauku\, Auckland\, 0891\, New 
 Zealand
END:VEVENT
END:VCALENDAR
