BEGIN:VCALENDAR
VERSION:2.0
PRODID:-//Squarespace Inc/Squarespace 6//v6//EN
BEGIN:VEVENT
UID:5a0541c6085229e932e37da7@squarespace.com
DTSTAMP:20171129T075103Z
DTSTART:20180323T210000Z
DTEND:20180324T050000Z
SUMMARY:Christchurch
GEO:-43.521265;172.632755
LOCATION:Eliza's Manor\, 82 Bealey Avenue\, Christchurch\, Canterbury\, 801
 3\, New Zealand
END:VEVENT
END:VCALENDAR
