BEGIN:VCALENDAR
VERSION:2.0
PRODID:-//Squarespace Inc/Squarespace 6//v6//EN
BEGIN:VEVENT
UID:5a0543679140b7ac4eb50ffb@squarespace.com
DTSTAMP:20171129T075430Z
DTSTART:20180420T230000Z
DTEND:20180421T070000Z
SUMMARY:East Auckland
GEO:-36.90749;174.902709
LOCATION:Bell House\, Howick Historical Village
END:VEVENT
END:VCALENDAR
