BEGIN:VCALENDAR
VERSION:2.0
PRODID:-//Squarespace Inc/Squarespace 6//v6//EN
BEGIN:VEVENT
UID:5a0542ac41920264152b8a8b@squarespace.com
DTSTAMP:20171129T075253Z
DTSTART:20180406T220000Z
DTEND:20180407T060000Z
SUMMARY:Hamilton
GEO:-37.653707;175.296087
LOCATION:Woodlands Historic Homestead\, 42 Whitikahu Road\, Taupiri\, Waika
 to\, 3791\, New Zealand
END:VEVENT
END:VCALENDAR
